BEGIN:VCALENDAR
VERSION:2.0
PRODID:-//SGS North America - ECPv6.15.20//NONSGML v1.0//EN
CALSCALE:GREGORIAN
METHOD:PUBLISH
X-WR-CALNAME:SGS North America
X-ORIGINAL-URL:https://env.sgs.com
X-WR-CALDESC:Events for SGS North America
REFRESH-INTERVAL;VALUE=DURATION:PT1H
X-Robots-Tag:noindex
X-PUBLISHED-TTL:PT1H
BEGIN:VTIMEZONE
TZID:America/New_York
BEGIN:DAYLIGHT
TZOFFSETFROM:-0500
TZOFFSETTO:-0400
TZNAME:EDT
DTSTART:20250309T070000
END:DAYLIGHT
BEGIN:STANDARD
TZOFFSETFROM:-0400
TZOFFSETTO:-0500
TZNAME:EST
DTSTART:20251102T060000
END:STANDARD
BEGIN:DAYLIGHT
TZOFFSETFROM:-0500
TZOFFSETTO:-0400
TZNAME:EDT
DTSTART:20260308T070000
END:DAYLIGHT
BEGIN:STANDARD
TZOFFSETFROM:-0400
TZOFFSETTO:-0500
TZNAME:EST
DTSTART:20261101T060000
END:STANDARD
BEGIN:DAYLIGHT
TZOFFSETFROM:-0500
TZOFFSETTO:-0400
TZNAME:EDT
DTSTART:20270314T070000
END:DAYLIGHT
BEGIN:STANDARD
TZOFFSETFROM:-0400
TZOFFSETTO:-0500
TZNAME:EST
DTSTART:20271107T060000
END:STANDARD
END:VTIMEZONE
BEGIN:VEVENT
DTSTART;TZID=America/New_York:20260414T080000
DTEND;TZID=America/New_York:20260417T170000
DTSTAMP:20260420T184750
CREATED:20260126T201249Z
LAST-MODIFIED:20260406T190010Z
UID:69516-1776153600-1776445200@env.sgs.com
SUMMARY:CAPCA Spring 2026
DESCRIPTION:Explore Smart Monitoring Solutions with SGS at CAPCA Spring Meeting 2026\nJoin us April 14–17 in Asheville\, NC\, to discover our cutting-edge environmental testing solutions and see how we’re advancing air analyses through our recent acquisition of ATL\, now offering professional air toxics testing services.  \nLearn more about our full range of air testing solutions and how our technology and expertise are leading the way in this specific area.  \nWe will be exhibiting our high-quality\, innovative\, and cost-effective services\, including:  \n\nEquipment Rental – Full spectrum of equipment you can rent preset and with free return shipping \n\n\nIndoor Air Quality – The full suite of services needed for quality IAQ analysis and monitoring for a healthy building including LEED and WELL testing kits. \n\n\nSmartSense Continuous Monitoring – Monitors VOCs\, CO\, temperature\, pressure\, humidity\, and other contaminants from anywhere in the world with innovative cloud remote sensor monitoring. \n\n\nEnvironmental Analytical Capabilities – We support consultants\, governments and industry by offering analytical services at state-of-the-art laboratories in North America and across the globe for soil\, water\, air\, and bulk materials in the workplace and built environment. \n\n\nNetwork Locations – Full-service laboratories for air\, water\, soil and hazardous waste including service centers\, IH rental centers and couriers near you. \n\nOur Environment\, Health and Safety Analysis and Monitoring Solutions in North America\, are focused on helping businesses succeed and keep people safe and healthy. We offer laboratory analyses include air\, water\, soil\, and hazardous waste; IH; asbestos\, lead\, mold; and ultra-trace analysis for contaminants of concern. Innovation is used in many applications including real-time air quality monitoring and wildfire analysis. Our PFAS testing capabilities lead the industry. Decades of experience\, the capacity for quick TAT\, and superior client service\, assures defensible results and your utmost satisfaction.  \nThere’s one more reason to stop by our booth: \nVisit SGS booth #39 to meet Paul Konnik and Grace Ausley to learn more about SmartSense\, our remote monitoring solution! And\, register for a chance to win a JBL Flip speaker.  \n  \nWe can’t wait to see you there!  \nContact Us\nFor more information on SGS’s services\, contact: \nPaul Konnik \nSenior Account Manager\n+1 551 238 0167\nPaul.Konnik@sgs.com\nFollow me on LinkedIN\nLinq my business card \nGrace Ausley\nSenior Account Manager\n+1 743 336 0797\nGrace.Ausley@sgs.com\nFollow me on LinkedIN\nLinq my business card \nor our award-winning Client Service Representatives: \n\nCall toll-free at +1 800 329 0204\nEmail at ehs.clientcare@sgs.com\n\nSGS is the world’s leading Testing\, Inspection and Certification company. We operate a network of over 2\,700 laboratories and business facilities across 119 countries\, supported by a team of 99\,250 dedicated professionals. With over 145 years of service excellence\, we combine the precision and accuracy that define Swiss companies to help organizations achieve the highest standards of quality\, safety and compliance. \nOur brand promise\, when you need to be sure\, underscores our commitment to reliability\, integrity and trust — enabling businesses to thrive with confidence. We proudly deliver our expert services through the SGS name and trusted specialized brands\, including Brightsight\, Bluesign\, Maine Pointe and Nutrasource. \nSGS is publicly traded on the SIX Swiss Exchange under the ticker symbol SGSN (ISIN CH0002497458\, Reuters SGSN.S\, Bloomberg SGSN:SW). \n 
URL:https://env.sgs.com/event/capca-spring-2026/
LOCATION:Omni Grove Park Inn\, Country Club\, Macon Avenue\, Asheville\, Asheville\, NC\, United States
CATEGORIES:Air Quality
ATTACH;FMTTYPE=image/png:https://env.sgs.com/wp-content/uploads/2026/01/SocialMedia_CAPCA-Spring-26_26.png
END:VEVENT
END:VCALENDAR