BEGIN:VCALENDAR
VERSION:2.0
PRODID:-//SGS North America - ECPv6.15.20//NONSGML v1.0//EN
CALSCALE:GREGORIAN
METHOD:PUBLISH
X-WR-CALNAME:SGS North America
X-ORIGINAL-URL:https://env.sgs.com
X-WR-CALDESC:Events for SGS North America
REFRESH-INTERVAL;VALUE=DURATION:PT1H
X-Robots-Tag:noindex
X-PUBLISHED-TTL:PT1H
BEGIN:VTIMEZONE
TZID:America/New_York
BEGIN:DAYLIGHT
TZOFFSETFROM:-0500
TZOFFSETTO:-0400
TZNAME:EDT
DTSTART:20240310T070000
END:DAYLIGHT
BEGIN:STANDARD
TZOFFSETFROM:-0400
TZOFFSETTO:-0500
TZNAME:EST
DTSTART:20241103T060000
END:STANDARD
BEGIN:DAYLIGHT
TZOFFSETFROM:-0500
TZOFFSETTO:-0400
TZNAME:EDT
DTSTART:20250309T070000
END:DAYLIGHT
BEGIN:STANDARD
TZOFFSETFROM:-0400
TZOFFSETTO:-0500
TZNAME:EST
DTSTART:20251102T060000
END:STANDARD
BEGIN:DAYLIGHT
TZOFFSETFROM:-0500
TZOFFSETTO:-0400
TZNAME:EDT
DTSTART:20260308T070000
END:DAYLIGHT
BEGIN:STANDARD
TZOFFSETFROM:-0400
TZOFFSETTO:-0500
TZNAME:EST
DTSTART:20261101T060000
END:STANDARD
BEGIN:DAYLIGHT
TZOFFSETFROM:-0500
TZOFFSETTO:-0400
TZNAME:EDT
DTSTART:20270314T070000
END:DAYLIGHT
BEGIN:STANDARD
TZOFFSETFROM:-0400
TZOFFSETTO:-0500
TZNAME:EST
DTSTART:20271107T060000
END:STANDARD
END:VTIMEZONE
BEGIN:VEVENT
DTSTART;TZID=America/New_York:20260311T080000
DTEND;TZID=America/New_York:20260313T170000
DTSTAMP:20260421T212440
CREATED:20260213T215017Z
LAST-MODIFIED:20260303T221613Z
UID:69726-1773216000-1773421200@env.sgs.com
SUMMARY:AIHA Carolinas Spring PDC/Conference 2026
DESCRIPTION:The AIHA Carolinas Spring PDC Conference is Back!  \nMeet Paul Konnik from March 11 – 13 in Raleigh\, NC\, to discover advanced technologies and monitoring solutions for Industrial Hygiene professionals.   \nFrom air quality monitoring to asbestos and silica testing\, our continuous monitoring technologies enable clients to stay ahead of the evolving challenges shaping today’s environmental industry!  \nWe will be exhibiting our high-quality\, innovative\, and cost-effective services\, including:   \n\nIndustrial Hygiene Analysis & Monitoring – Protecting people from hazardous exposures by selecting the most effective ways to obtain data and delivering high-quality analysis and defensible results. \n\n\nServices for the Built Environment – Top-quality laboratory services to help clients identify\, understand\, and monitor potential contaminants in the built environment including asbestos\, heavy metals\, particulates\, microbiology and bacteriology. \n\n\nAsbestos Microscopy & TEM – A comprehensive array of analytical methods for testing in air\, water\, building materials\, soil/rock\, settled dust or attic vermiculite\, including Rotameter Calibration (PCM) for asbestos air sampling applications. \n\n\nOTM 50 – Volatile PFAS in stack and indoor/outdoor emissions captured in a canister for compliance/other monitoring of volatile PFAS from factory\, PFAS user\, incinerator and other PFAS remediation/destructive flue gas stack. \n\nWe keep expanding our network of environmental testing laboratories! \nWith the recent acquisition of AMA Analytical Services (AMA)\, we are enhancing our ability to deliver high-quality testing services for the built environment. AMA specializes in asbestos\, lead/metals\, and microbial analysis laboratory services.   \nOur Environment\, Health and Safety Analysis and Monitoring Solutions in North America\, are focused on helping businesses succeed and keep people safe and healthy. We offer laboratory analyses including air\, water\, soil\, and hazardous waste; IH; asbestos\, lead\, mold; and ultra-trace analysis for contaminants of concern. Innovation is used in many applications including real-time air quality monitoring and wildfire analysis. Our PFAS testing capabilities lead the industry. Decades of experience\, the capacity for quick TAT\, and superior client service\, assures defensible results and your utmost satisfaction.   \nThere’s one more reason to stop by our booth!   \nVisit the SGS booth to explore our SmartSense demo and see how we are monitoring indoor air quality for one of the largest school districts in the country!   \nPlus\, enter for a chance to win a JBL flip speaker!  \nWe can’t wait to see you there!   \nContact Us  \nPaul Konnik \nSenior Account Manager\n+1 551 238 0167\nPaul.Konnik@sgs.com\nFollow me on LinkedIN \nor our award-winning Client Service Representatives: \n\nCall toll-free at +1 800 329 0204\nEmail at ehs.clientcare@sgs.com\n\nSGS is the world’s leading Testing\, Inspection and Certification company. We operate a network of over 2\,700 laboratories and business facilities across 119 countries\, supported by a team of 99\,250 dedicated professionals. With over 145 years of service excellence\, we combine the precision and accuracy that define Swiss companies to help organizations achieve the highest standards of quality\, safety and compliance. \nOur brand promise\, when you need to be sure\, underscores our commitment to reliability\, integrity and trust — enabling businesses to thrive with confidence. We proudly deliver our expert services through the SGS name and trusted specialized brands\, including Brightsight\, Bluesign\, Maine Pointe and Nutrasource. \nSGS is publicly traded on the SIX Swiss Exchange under the ticker symbol SGSN (ISIN CH0002497458\, Reuters SGSN.S\, Bloomberg SGSN:SW). \n 
URL:https://env.sgs.com/event/aiha-carolinas-spring-pdc-conference-2026/
LOCATION:Hilton Raleigh North Hills\, Wake Forest Road\, Raleigh\, NC\, United States
CATEGORIES:Built Environment,Industrial Hygiene
ATTACH;FMTTYPE=image/jpeg:https://env.sgs.com/wp-content/uploads/2026/02/SocialMedia_AIHA-Carolinas-Spring-PDCConference_26.jpg
END:VEVENT
BEGIN:VEVENT
DTSTART;VALUE=DATE:20260311
DTEND;VALUE=DATE:20260315
DTSTAMP:20260421T212440
CREATED:20260303T204609Z
LAST-MODIFIED:20260304T154312Z
UID:69938-1773187200-1773532799@env.sgs.com
SUMMARY:EIA National Conference 2026
DESCRIPTION:Meet SGS at the EIA 2026 National Conference and Exhibition\, March 11- 13\, in Phoenix\, AZ \nDiscover our comprehensive solutions for the Built Environment Industry!   \nLearn more about our smart monitoring technologies and environmental capabilities tailored to support your specific testing needs\, such as wildfire recovery programs\, indoor air management\, and more.  \nConnect with our experts to explore our full suite of capabilities\, multiple laboratory locations and service centers!  \nDo not Miss our Presentations: \n \n  \n– Dr. Kesavalu Bagawandoss\, General Manager II\, will present: \nPFAS in Air – Method OTM-50 on Thursday\,  March 12th \n  \n \n  \n– Mike Greenberg\, Operations Manager\, will present:  \nUSP 901 on Saturday\,  March 14th \n  \n\n\n                \n                        \n                            Presentation Requests\n                            Please fill out the form below to request a copy of these presentations. \n                        \n                        Name(Required)\n                            \n                            \n                                                    \n                                                    First\n                                                \n                            \n                            \n                                                    \n                                                    Last\n                                                \n                            \n                        Email(Required)\n                            \n                        PhoneCompany(Required)Presentation Requested(Required)\n          \n            \n            \n            \n            \n            \n            \n            \n            \n            \n            \n            \n            \n            \n        \n                        \n                        \n\nDuring the event\, we will be exhibiting our high quality\, innovative and cost-effective services including:   \n\nIndustrial Hygiene Analysis & Monitoring – Protecting people from hazardous exposures by selecting the most effective ways to obtain data and delivering high-quality analysis and defensible results. \n\n\nServices for the Built Environment – Top-quality laboratory services to help clients identify\, understand\, and monitor potential contaminants in the built environment including asbestos\, heavy metals\, particulates\, microbiology and bacteriology. \n\n\nIndoor Air Quality – The full suite of services needed for quality IAQ analysis and monitoring for a healthy building including LEED and WELL testing kits. \n\n\nSmartSense Continuous Monitoring – Monitors VOCs\, CO\, temperature\, pressure\, humidity\, and other contaminants from anywhere in the world with innovative cloud remote sensor monitoring. \n\n\nWildfire Recovery Monitoring & Analysis – Comprehensive solutions for monitoring and testing of air\, soil and water surrounding wildfire events plus ash and char analysis.   \n\nOur Environment\, Health and Safety Analysis and Monitoring Solutions in North America are focused on helping businesses succeed and keep people safe and healthy. We offer laboratory analyses including air\, water\, soil\, and hazardous waste; IH; asbestos\, lead\, mold; and ultra-trace analysis for contaminants of concern. Innovation is used in many applications including real-time air quality monitoring and wildfire analysis. Our PFAS testing capabilities lead the industry. Decades of experience\, the capacity for quick TAT\, and superior client service\, assures defensible results and your utmost satisfaction.  \nThere’s one more reason to stop by our booth!   \nSwing by SGS booth #31 to see our e-COC and engage demo live and discuss how we can work together to achieve your environmental goals.   \nWe can’t wait to see you there! \nContact Us\nFor more information on SGS’s services\, contact: \nHamreen Kaur\nSenior Account Manager\, SoCal\n+1 562 900 1392\nHamreen.Kaur@sgs.com\nFollow me: LinkedIn \nKesavalu M. Bagawandoss Ph.D.\, J.D.\nTechnical Director\, North America\n+1 281 881 1457\nDr.Doss@sgs.com\nFollow me on LinkedIN\nLinq my business card \nDana Hudson\nClient Service Manager\n+1 301 459 2640\nDana.Hudson@sgs.com\nFollow me on LinkedIN \nMike Greenberg \nOperations Manager\n+1 301 459 2640\nMike.Greenberg@sgs.com\n \nor our award-winning Client Service Representatives: \n\nCall toll-free at +1 800 329 0204\nEmail at ehs.clientcare@sgs.com\n\nSGS is the world’s leading Testing\, Inspection and Certification company. We operate a network of over 2\,700 laboratories and business facilities across 119 countries\, supported by a team of 99\,250 dedicated professionals. With over 145 years of service excellence\, we combine the precision and accuracy that define Swiss companies to help organizations achieve the highest standards of quality\, safety and compliance. \nOur brand promise\, when you need to be sure\, underscores our commitment to reliability\, integrity and trust — enabling businesses to thrive with confidence. We proudly deliver our expert services through the SGS name and trusted specialized brands\, including Brightsight\, Bluesign\, Maine Pointe and Nutrasource. \nSGS is publicly traded on the SIX Swiss Exchange under the ticker symbol SGSN (ISIN CH0002497458\, Reuters SGSN.S\, Bloomberg SGSN:SW). \n  \n 
URL:https://env.sgs.com/event/eia-national-conference-2026/
LOCATION:Hyatt Regency\, 122 N 2nd St\,\, Phoenix\, AZ\, 85004\, United States
CATEGORIES:Built Environment
ATTACH;FMTTYPE=image/jpeg:https://env.sgs.com/wp-content/uploads/2026/03/SocialMedia_EIA-National-Conference_26.jpg
END:VEVENT
BEGIN:VEVENT
DTSTART;VALUE=DATE:20260226
DTEND;VALUE=DATE:20260227
DTSTAMP:20260421T212440
CREATED:20251205T191027Z
LAST-MODIFIED:20260212T150310Z
UID:68912-1772064000-1772150399@env.sgs.com
SUMMARY:2026 San Francisco Area Safety Symposium
DESCRIPTION:Proud Gold Sponsors of the 2026 San Francisco Area Safety Symposium\nMeet us on February 26 in Concord\, CA! We’ll be showcasing our full suite of capabilities and monitoring solutions for Industrial Hygiene and the Built Environment\, plus highlighting our local services that support the remediation and restoration of contaminated sites.  \nConnect with our experts to discuss how we can support your local testing needs\, and learn more about our high-quality\, innovative and cost-effective services\, including:  \n\nIndustrial Hygiene Analysis & Monitoring – Protecting people from hazardous exposures by selecting the most effective ways to obtain data and delivering high-quality analysis and defensible results. \n\n\nServices for the Built Environment – Top-quality laboratory services to help clients identify\, understand\, and monitor potential contaminants in the built environment including asbestos\, heavy metals\, particulates\, microbiology and bacteriology. \n\n\nAsbestos Microscopy & TEM – A comprehensive array of analytical methods for testing in air\, water\, building materials\, soil/rock\, settled dust or attic vermiculite\, including Rotameter Calibration (PCM) for asbestos air sampling applications. \n\n\nMicrobiology & Bacteriology – Offering comprehensive microbiology analytical services including mold and fungi with qPCR\, bacteria with MPN/MUG\, legionella\, and sterile pharma validations with USP 797. \n\n\nWildfire Recovery Monitoring & Analysis – Comprehensive solutions for monitoring and testing of air\, soil and water surrounding a wildfire event plus ash and char analysis. \n\n\nNetwork of Western US Locations – Full-service laboratories for air\, water\, soil and hazardous waste including service centers\, IH rental centers and couriers in Alaska\, Arizona\, California\, Nevada\, and Colorado. \n\nThere’s one more reason to stop by our booth: \nVisit the SGS booth for a SmartSense demo with Joseph Trapasso and Karen Maxwell and enter for a chance to win a Yeti Rambler!  \nWe can’t wait to see you there!  \nContact Us\nFor more information on SGS’s services\, contact:\nJoseph Trapasso\, III\nAccount Manager\, Northern Cal\n+1 916 938 0519\nJoseph.Trapasso@sgs.com\nFollow me: LinkedIn \nKaren Maxwell\nSales Manager\, Western US\n+1 646 984 1167\nKaren.Maxwell@sgs.com\nFollow me: LinkedIn \nor our award-winning Client Service Representatives: \n\nCall toll-free at +1 800 329 0204\nEmail at ehs.clientcare@sgs.com\n\nSGS is the world’s leading Testing\, Inspection and Certification company. We operate a network of over 2\,700 laboratories and business facilities across 119 countries\, supported by a team of 99\,250 dedicated professionals. With over 145 years of service excellence\, we combine the precision and accuracy that define Swiss companies to help organizations achieve the highest standards of quality\, safety and compliance. \nOur brand promise\, when you need to be sure\, underscores our commitment to reliability\, integrity and trust — enabling businesses to thrive with confidence. We proudly deliver our expert services through the SGS name and trusted specialized brands\, including Brightsight\, Bluesign\, Maine Pointe and Nutrasource. \nSGS is publicly traded on the SIX Swiss Exchange under the ticker symbol SGSN (ISIN CH0002497458\, Reuters SGSN.S\, Bloomberg SGSN:SW).
URL:https://env.sgs.com/event/2026-san-francisco-area-safety-symposium/
LOCATION:Hilton Concord\, 1970 Diamond Blvd\, Concord\, CA\, United States
CATEGORIES:Built Environment
ATTACH;FMTTYPE=image/png:https://env.sgs.com/wp-content/uploads/2025/12/SocialMedia_San-Francisco-Area-Safety-Symposium_26-1.png
END:VEVENT
BEGIN:VEVENT
DTSTART;VALUE=DATE:20251211
DTEND;VALUE=DATE:20251213
DTSTAMP:20260421T212440
CREATED:20251205T155059Z
LAST-MODIFIED:20251208T164146Z
UID:68894-1765411200-1765583999@env.sgs.com
SUMMARY:Pennsylvania Governor's Occupational Safety & Health Conference (PA GOSH) 2025
DESCRIPTION:Join us to discover world-class analytical and monitoring solutions to ensure workplace safety\, network with other safety professionals\, and explore our latest trends and innovations in the industry.   \nWe will be exhibiting our SmartSense real-time monitoring solution with LiveView reports and our high quality\, innovative and cost-effective services including:  \n\nIndustrial Hygiene Analysis & Monitoring – Protecting people from hazardous exposures by selecting the most effective ways to obtain data and delivering high-quality analysis and defensible results. \nServices for the Built Environment – Top-quality laboratory services to help clients identify\, understand\, and monitor potential contaminants in the built environment including asbestos\, heavy metals\, particulates\, microbiology and bacteriology.\nSilica – Provides exactly what you need to easily monitor your silica dust hazards and you can order our test kits that cover all forms of crystalline silica. \nIndoor Air Quality – The full suite of services needed for quality IAQ analysis and monitoring for a healthy building including LEED and WELL testing kits. \nFenceline Monitoring w/ AIHR Shark – The AIHR Shark is a hands-free passive directional sampler that monitors emissions levels caused by refinery activity or off-site sources and helps keep you in compliance with EPA-325. \n\nOur Environment\, Health and Safety Analysis and Monitoring Solutions in North America\, are focused on helping businesses succeed and keep people safe and healthy. We offer laboratory analyses include air\, water\, soil\, and hazardous waste; IH; asbestos\, lead\, mold; and ultra-trace analysis for contaminants of concern. Innovation is used in many applications including real-time air quality monitoring and wildfire analysis. Our PFAS testing capabilities lead the industry. Decades of experience\, the capacity for quick TAT\, and superior client service\, assures defensible results and your utmost satisfaction. \nThere’s one more reason to stop by our booth:\nVisit the SGS booth to explore our IH Sampling and Analysis Guide (SAG) and enter for a chance to win a Yeti Rambler!  \n\nWe can’t wait to see you there! \nContact Us\nFor more information on SGS’s services\, contact: \nKimberley Thomas\nSenior Account Manager\n+1 609 314 6062 \nKimberley.Thomas@sgs.com\nFollow me on LinkedIN \nCharles Chan\nSenior Account Manager\n+1 302 484 6503\nCharles.Chan2@sgs\nFollow me on LinkedIN \nor our award-winning Client Service Representatives: \n\nCall toll-free at +1 800 329 0204\nEmail at ehs.clientcare@sgs.com\n\n  \nSGS is the world’s leading Testing\, Inspection and Certification company. We operate a network of over 2\,700 laboratories and business facilities across 119 countries\, supported by a team of 99\,250 dedicated professionals. With over 145 years of service excellence\, we combine the precision and accuracy that define Swiss companies to help organizations achieve the highest standards of quality\, safety and compliance. \nOur brand promise\, when you need to be sure\, underscores our commitment to reliability\, integrity and trust — enabling businesses to thrive with confidence. We proudly deliver our expert services through the SGS name and trusted specialized brands\, including Brightsight\, Bluesign\, Maine Pointe and Nutrasource. \nSGS is publicly traded on the SIX Swiss Exchange under the ticker symbol SGSN (ISIN CH0002497458\, Reuters SGSN.S\, Bloomberg SGSN:SW).
URL:https://env.sgs.com/event/pennsylvania-governors-occupational-safety-health-conference-pa-gosh-2025/
LOCATION:Hershey Lodge\, University Drive\, Hershey\, PA\, United States
CATEGORIES:Built Environment,Industrial Hygiene
ATTACH;FMTTYPE=image/png:https://env.sgs.com/wp-content/uploads/2025/12/SocialMedia_PA-GOSH_25_UPDATED.png
END:VEVENT
BEGIN:VEVENT
DTSTART;TZID=America/New_York:20251104T080000
DTEND;TZID=America/New_York:20251107T170000
DTSTAMP:20260421T212440
CREATED:20251106T175110Z
LAST-MODIFIED:20251106T175110Z
UID:68534-1762243200-1762534800@env.sgs.com
SUMMARY:Greenbuild 2025
DESCRIPTION:The Greenbuild Conference 2025 is Just Around the Corner!\nDiscover our newest technology of sensors for Indoor Air Quality Monitoring and explore our customized testing LEED kits at the Greenbuild Conference 2025\, from November 4th- 7th in Los Angeles\, CA. \nDiscover why we are your one-stop shop for everything you need for your Built Environment projects!  \nWe will be exhibiting our high quality\, innovative\, and cost-effective services\, including:  \n\nIndustrial Hygiene Analysis & Monitoring – Protecting people from hazardous exposures by selecting the most effective ways to obtain data and delivering high-quality analysis and defensible results. \n\n\nIndoor Air Quality – The full suite of services needed for quality IAQ analysis and monitoring for a healthy building including LEED and WELL testing kits. \n\n\nSmartSense Continuous Monitoring – Monitors VOCs\, CO\, temperature\, pressure\, humidity\, and other contaminants from anywhere in the world with innovative cloud remote sensor monitoring. \n\n\nComprehensive Air Testing Services – An unrivaled combination of air service delineation tools\, sampling equipment\, and analytical capabilities to get you from site characterization to site closure. \nNetwork Locations – Full-service laboratories for air\, water\, soil and hazardous waste including service centers\, IH rental centers and couriers near you. \n\nOur Environment\, Health and Safety Analysis and Monitoring Solutions in North America\, are focused on helping businesses succeed and keep people safe and healthy. We offer laboratory analyses include air\, water\, soil\, and hazardous waste; IH; asbestos\, lead\, mold; and ultra-trace analysis for contaminants of concern. Innovation is used in many applications including real-time air quality monitoring and wildfire analysis. Our PFAS testing capabilities lead the industry. Decades of experience\, the capacity for quick TAT\, and superior client service\, assures defensible results and your utmost satisfaction.  \nThere’s one more reason to stop by our booth! \nVisit the SGS booth to see our new LEED kit and enter for a chance to win a Yeti Rambler!  \nWe can’t wait to see you there!  \n\nCONTACT US \nFor more information on SGS’s services\, contact:  \nEd Stuber\, CIH\, ROH\, FAIHA\nPortfolio Lead\, Industrial Hygiene\n+1 315 427 4222\nEdward.Stuber@sgs.com\nFollow me on LinkedIN \nHamreen Kaur\nSenior Account Manager\, SoCal\n+1 562 900 1392\nHamreen.Kaur@sgs.com\nFollow me: LinkedIn \nJoseph Trapasso\, III\nAccount Manager\, Northern Cal\n+1 916 938 0519\nJoseph.Trapasso@sgs.com\nFollow me: LinkedIn \nRon McMahan\nDirector of Innovations\n+1 512 897 5230\nRonald.McMahan@sgs.com \nor our award-winning Client Service Representatives: \n\nCall toll-free at +1 800 329 0204\nEmail at ehs.clientcare@sgs.com\n\n  \nSGS is the world’s leading Testing\, Inspection and Certification company. We operate a network of over 2\,700 laboratories and business facilities across 119 countries\, supported by a team of 99\,250 dedicated professionals. With over 145 years of service excellence\, we combine the precision and accuracy that define Swiss companies to help organizations achieve the highest standards of quality\, safety and compliance. \nOur brand promise\, when you need to be sure\, underscores our commitment to reliability\, integrity and trust — enabling businesses to thrive with confidence. We proudly deliver our expert services through the SGS name and trusted specialized brands\, including Brightsight\, Bluesign\, Maine Pointe and Nutrasource. \nSGS is publicly traded on the SIX Swiss Exchange under the ticker symbol SGSN (ISIN CH0002497458\, Reuters SGSN.S\, Bloomberg SGSN:SW).
URL:https://env.sgs.com/event/greenbuild-2025/
LOCATION:Los Angeles Convention Center\, Los Angeles\, CA\, United States
CATEGORIES:Built Environment
ATTACH;FMTTYPE=image/png:https://env.sgs.com/wp-content/uploads/2025/11/Event-Landing-Page-Image-Template-35.png
ORGANIZER;CN="Gene Jones":MAILTO:gene@swixusa.org
END:VEVENT
BEGIN:VEVENT
DTSTART;VALUE=DATE:20250804
DTEND;VALUE=DATE:20250809
DTSTAMP:20260421T212440
CREATED:20251003T003703Z
LAST-MODIFIED:20251003T003703Z
UID:67528-1754265600-1754697599@env.sgs.com
SUMMARY:ASTM Rook Conference on Asbestos Issues
DESCRIPTION:Find asbestos expert Joseph Woo to learn more about our high-quality analytical services\, advanced technologies and comprehensive capabilities for the Built Environment and Industrial Hygiene industries\, between August 4th-8th\, in Pittsburgh\, PA.   \nDiscover our reliable courier network\, reliable TATs for environmental projects\, and cost-effective services including:  \n\nIndustrial Hygiene Analysis & Monitoring – Protecting people from hazardous exposures by selecting the most effective ways to obtain data and delivering high-quality analysis and defensible results. \n\n\nServices for the Built Environment – Top-quality laboratory services to help clients identify\, understand\, and monitor potential contaminants in the built environment including asbestos\, heavy metals\, particulates\, microbiology and bacteriology. \n\n\nAsbestos Microscopy & TEM – A comprehensive array analytical methods for testing in air\, water\, building materials\, soil/rock\, settled dust or attic vermiculite\, including Rotameter Calibration (PCM) for asbestos air sampling applications. \n\n\nIndoor Air Quality – The full suite of services needed for quality IAQ analysis and monitoring for a healthy building including LEED and WELL testing kits. \n\n\nNetwork Locations – Full-service laboratories for air\, water\, soil and hazardous waste including service centers\, IH rental centers and couriers near you. \n\nOur Environment\, Health and Safety Analysis and Monitoring Solutions in North America\, are focused on helping businesses succeed and keep people safe and healthy. We offer laboratory analyses include air\, water\, soil\, and hazardous waste; IH; asbestos\, lead\, mold; and ultra-trace analysis for contaminants of concern. Innovation is used in many applications including real-time air quality monitoring and wildfire analysis. Our PFAS testing capabilities lead the industry. Decades of experience\, the capacity for quick TAT\, and superior client service\, assures defensible results and your utmost satisfaction.  \nWe can’t wait to see you there! \nCONTACT US\nFor more information on SGS’s services\, contact:\nJoseph Woo\nAsbestos Analyst\n+1 519 672 4500\nJoseph.Woo@sgs.com\n \nor our award-winning Client Service Representatives: \n\nCall toll-free at +1 800 329 0204\nEmail at ehs.clientcare@sgs.com\n\nSGS is the world’s leading Testing\, Inspection and Certification company. We operate a network of over 2\,700 laboratories and business facilities across 119 countries\, supported by a team of 99\,250 dedicated professionals. With over 145 years of service excellence\, we combine the precision and accuracy that define Swiss companies to help organizations achieve the highest standards of quality\, safety and compliance. \nOur brand promise\, when you need to be sure\, underscores our commitment to reliability\, integrity and trust — enabling businesses to thrive with confidence. We proudly deliver our expert services through the SGS name and trusted specialized brands\, including Brightsight\, Bluesign\, Maine Pointe and Nutrasource. \nSGS is publicly traded on the SIX Swiss Exchange under the ticker symbol SGSN (ISIN CH0002497458\, Reuters SGSN.S\, Bloomberg SGSN:SW).
URL:https://env.sgs.com/event/astm-rook-conference-on-asbestos-issues/
LOCATION:Pittsburgh Marriott City Center\, 112 Washington Place\, Pittsburgh\, PA\, 15219\, United States
CATEGORIES:Built Environment
ATTACH;FMTTYPE=image/jpeg:https://env.sgs.com/wp-content/uploads/2025/10/SocialMedia_ASTM-Rook-Conference_Asbestos_25.jpg
END:VEVENT
END:VCALENDAR