BEGIN:VCALENDAR
VERSION:2.0
PRODID:-//SGS North America - ECPv6.15.20//NONSGML v1.0//EN
CALSCALE:GREGORIAN
METHOD:PUBLISH
X-ORIGINAL-URL:https://env.sgs.com
X-WR-CALDESC:Events for SGS North America
REFRESH-INTERVAL;VALUE=DURATION:PT1H
X-Robots-Tag:noindex
X-PUBLISHED-TTL:PT1H
BEGIN:VTIMEZONE
TZID:America/New_York
BEGIN:DAYLIGHT
TZOFFSETFROM:-0500
TZOFFSETTO:-0400
TZNAME:EDT
DTSTART:20250309T070000
END:DAYLIGHT
BEGIN:STANDARD
TZOFFSETFROM:-0400
TZOFFSETTO:-0500
TZNAME:EST
DTSTART:20251102T060000
END:STANDARD
BEGIN:DAYLIGHT
TZOFFSETFROM:-0500
TZOFFSETTO:-0400
TZNAME:EDT
DTSTART:20260308T070000
END:DAYLIGHT
BEGIN:STANDARD
TZOFFSETFROM:-0400
TZOFFSETTO:-0500
TZNAME:EST
DTSTART:20261101T060000
END:STANDARD
BEGIN:DAYLIGHT
TZOFFSETFROM:-0500
TZOFFSETTO:-0400
TZNAME:EDT
DTSTART:20270314T070000
END:DAYLIGHT
BEGIN:STANDARD
TZOFFSETFROM:-0400
TZOFFSETTO:-0500
TZNAME:EST
DTSTART:20271107T060000
END:STANDARD
END:VTIMEZONE
BEGIN:VEVENT
DTSTART;VALUE=DATE:20260427
DTEND;VALUE=DATE:20260429
DTSTAMP:20260421T051743
CREATED:20260414T164544Z
LAST-MODIFIED:20260414T164544Z
UID:70683-1777248000-1777420799@env.sgs.com
SUMMARY:Chemistry Council of New Jersey (CCNJ) 41st Annual Conference
DESCRIPTION:Unlock Comprehensive Environmental Testing Services with SGS at the Chemistry Council of New Jersey (CCNJ) 41st Annual Conference \nDiscover more about our local soil\, groundwater\, and air testing capabilities and how our expertise can support your projects across New Jersey. Let’s connect and discuss how we can support your business needs!  \nWe will be exhibiting our high quality\, innovative and cost-effective services\, including:   \n\nPFAS Analysis – As the originators of method 1633\, we offer a wide range of matrices to analyze PFAS in water\, soil\, sediments\, biosolids and tissues/biofluids. \n\n\nIndustrial Hygiene Analysis & Monitoring – Protecting people from hazardous exposures by selecting the most effective ways to obtain data and delivering high-quality analysis and defensible results. \n\n\nSmartSense Continuous Monitoring – Monitors VOCs\, CO\, temperature\, pressure\, humidity\, and other contaminants from anywhere in the world with innovative cloud remote sensor monitoring. \n\n\nSGS Engage – With access to data\, notifications for your most important projects and data that come to life in visual charts\, SGS Engage has it all. \n\n\nElectronic Chain of Custody – A Paperless solution that creates\, manages\, and tracks projects online\, generates eCOC documents\, reduces the risks of COC damage\, and improves TATs for faster results. \n\nOur Environment\, Health and Safety Analysis and Monitoring Solutions in North America\, are focused on helping businesses succeed and keep people safe and healthy. We offer laboratory analyses include air\, water\, soil\, and hazardous waste; IH; asbestos\, lead\, mold; and ultra-trace analysis for contaminants of concern. Innovation is used in many applications including real-time air quality monitoring and wildfire analysis. Our PFAS testing capabilities lead the industry. Decades of experience\, the capacity for quick TAT\, and superior client service\, assures defensible results and your utmost satisfaction.  \nThere’s one more reason to stop by our booth:\nVisit the SGS booth to enter for a chance to win a Yeti Rambler and see our Engage and eCOC solutions in action!  \nWe can’t wait to see you there! \nContact Us\nFor more information on SGS’s services\, contact: \nKimberley Thomas\nSenior Account Manager\n+1 609 314 6062\nKimberley.Thomas@sgs.com\nFollow me on LinkedIN \nAaron Patak \nSenior Account Manager\n+1 917 846 7701\nAaron.Patak@sgs.com\nFollow me on LinkedIN \nor our award-winning Client Service Representatives: \n\nCall toll-free at +1 800 329 0204\nEmail at ehs.clientcare@sgs.com\n\nSGS is the world’s leading Testing\, Inspection and Certification company. We operate a network of over 2\,700 laboratories and business facilities across 119 countries\, supported by a team of 99\,250 dedicated professionals. With over 145 years of service excellence\, we combine the precision and accuracy that define Swiss companies to help organizations achieve the highest standards of quality\, safety and compliance. \nOur brand promise\, when you need to be sure\, underscores our commitment to reliability\, integrity and trust — enabling businesses to thrive with confidence. We proudly deliver our expert services through the SGS name and trusted specialized brands\, including Brightsight\, Bluesign\, Maine Pointe and Nutrasource. \nSGS is publicly traded on the SIX Swiss Exchange under the ticker symbol SGSN (ISIN CH0002497458\, Reuters SGSN.S\, Bloomberg SGSN:SW).
URL:https://env.sgs.com/event/chemistry-council-of-new-jersey-ccnj-41st-annual-conference/
LOCATION:Ocean Casino Resort\, 500 Boardwalk\, Atlantic City\, NJ\, 08401\, United States
CATEGORIES:Environmental Testing
ATTACH;FMTTYPE=image/png:https://env.sgs.com/wp-content/uploads/2026/04/SocialMedia_Chemistry-Council-of-New-Jersey-41st-Annual-Conference_26.png
END:VEVENT
BEGIN:VEVENT
DTSTART;VALUE=DATE:20260428
DTEND;VALUE=DATE:20260501
DTSTAMP:20260421T051743
CREATED:20260416T181339Z
LAST-MODIFIED:20260416T182529Z
UID:70773-1777334400-1777593599@env.sgs.com
SUMMARY:AWWA-AZ - 2026 AZ Water Conference
DESCRIPTION:Dive Into Water Solutions at 2026 AZ Water Conference on April 28-30 in Phoenix\, AZ \nJoin our experts to learn more about our leading testing solutions\, explore our local courier center\, and see how we can support all your environmental needs.    \nGet answers to all your PFAS-related questions\, discover our emerging contaminants capabilities\, and stay up to date on the latest regulatory requirements on air\, soil\, water and waste.  \nWe will be exhibiting our high quality\, innovative and cost-effective services including:   \n\nPFAS Analysis – As the originators of method 1633\, we offer a wide range of matrices to analyze PFAS in water\, soil\, sediments\, biosolids and tissues/biofluids.\nUltrashorts – We are pleased to offer a sensitive and specific isotope dilution LC-MS/MS method for the measurement of Trifluoroacetic Acid (TFA) and 4 other ultrashort\nperfluoroalkyl carboxylates and sulfonates.\nCEC Analysis and Method Development – Specializing in the measurement of known or suspected Persistent Organic Pollutants (POPS) and Contaminants of Emerging Concern (CECs) in environmental\, biota and product samples. \nMicroplastics – analysis according to ISO-accredited method. \nDrinking Water & Wastewater Analysis – SGS Silver State Analytical Labs offers testing for public/private utilities\, manufacturing\, process industries and the restaurant/hospitality sectors. \nNetwork of Western US Locations – Full-service laboratories for air\, water\, soil and hazardous waste including service centers\, IH rental centers and couriers in Alaska\, Arizona\, California\, Nevada\, and Colorado. Learn more about our local courier center for the Greater Phoenix Metropolitan area!  \n\nOur Environment\, Health and Safety Analysis and Monitoring Solutions in North America are focused on helping businesses succeed and keep people safe and healthy. We offer laboratory analyses including air\, water\, soil\, and hazardous waste; IH; asbestos\, lead\, mold; and ultra-trace analysis for contaminants of concern. Innovation is used in many applications including real-time air quality monitoring and wildfire analysis. Our PFAS testing capabilities lead the industry. Decades of experience\, the capacity for quick TAT\, and superior client service\, assures defensible results and your utmost satisfaction.  \nThere’s one more reason to stop by our booth:\nVisit the SGS booth to connect and experience live demos of Engage and Ecoc\, our digital solutions to streamline your workflow! Plus\, enter for a chance to win a Yeti rambler! \nWe can’t wait to see you there! \nContact Us\nFor more information on SGS’s services\, contact: \nStephanie Stimson\, Ph.D.\nSenior Account Manager\, AZ\, ID\, NV\, NM\, OR\, UT & WA\n+1 480 910 7924\nStephanie.Stimson@sgs.com\nFollow me on LinkedIN \nJamie Fox\nDirector Technical Sales\n+1 505 307-3770\nJamie.Fox@sgs.com\nFollow me on LinkedIN \nor our award-winning Client Service Representatives: \n\nCall toll-free at +1 800 329 0204\nEmail at ehs.clientcare@sgs.com\n\nSGS is the world’s leading Testing\, Inspection and Certification company. We operate a network of over 2\,700 laboratories and business facilities across 119 countries\, supported by a team of 99\,250 dedicated professionals. With over 145 years of service excellence\, we combine the precision and accuracy that define Swiss companies to help organizations achieve the highest standards of quality\, safety and compliance. \nOur brand promise\, when you need to be sure\, underscores our commitment to reliability\, integrity and trust — enabling businesses to thrive with confidence. We proudly deliver our expert services through the SGS name and trusted specialized brands\, including Brightsight\, Bluesign\, Maine Pointe and Nutrasource. \nSGS is publicly traded on the SIX Swiss Exchange under the ticker symbol SGSN (ISIN CH0002497458\, Reuters SGSN.S\, Bloomberg SGSN:SW).
URL:https://env.sgs.com/event/awwa-az-2026-az-water-conference/
LOCATION:Phoenix Convention Center\, N 3rd St\, Phoenix\, AZ\, United States
CATEGORIES:Environmental Testing
ATTACH;FMTTYPE=image/png:https://env.sgs.com/wp-content/uploads/2026/04/Event-Landing-Page-Image-Template-46-1.png
END:VEVENT
BEGIN:VEVENT
DTSTART;VALUE=DATE:20260501
DTEND;VALUE=DATE:20260502
DTSTAMP:20260421T051743
CREATED:20260420T191402Z
LAST-MODIFIED:20260420T191402Z
UID:70812-1777593600-1777679999@env.sgs.com
SUMMARY:2025 AWRA & CGWA Symposium
DESCRIPTION:We are Happy to Attend the 2026 AWRA & CGWA Symposium – Flowing Tensions: Navigating Water Scarcity and Competing Demands\nDiscover our leading innovations in water analysis at this premier gathering of hydrology experts in Golden\, CO\, on May 1st. \nCatch Joshua Bakin to explore our top-tier analytical solutions for groundwater testing\, explore Colorado’s local lab capabilities\, and learn how we are helping the environmental industry thrive towards a sustainable future! \n\nEnvironmental Analytical Capabilities – We support consultants\, governments and industry by offering analytical services at state-of-the-art laboratories in North America and across the globe for soil\, water\, air\, and bulk materials in the workplace and built environment.\nPFAS Analysis – As the originators of method 1633\, we offer a wide range of matrices to analyze PFAS in water\, soil\, sediments\, biosolids and tissues/biofluids.\nDrinking Water & Wastewater Analysis – SGS Silver State Analytical Labs offers testing for public/private utilities\, manufacturing\, process industries and the restaurant/hospitality sectors.\nSGS Engage – With access to data\, notifications for your most important projects and data that comes to life in visual charts\, SGS Engage has it all.\nNetwork of Western US Locations – Full-service laboratories for air\, water\, soil and hazardous waste including service centers\, IH rental centers and couriers in Alaska\, Arizona\, California\, Nevada\, and Colorado.\n\nOur Environment\, Health and Safety Analysis and Monitoring Solutions in North America\, are focused on helping businesses succeed and keep people safe and healthy. We offer laboratory analyses include air\, water\, soil\, and hazardous waste; IH; asbestos\, lead\, mold; and ultra-trace analysis for contaminants of concern. Innovation is used in many applications including real-time air quality monitoring and wildfire analysis. Our PFAS testing capabilities lead the industry. Decades of experience\, the capacity for quick TAT\, and superior client service\, assures defensible results and your utmost satisfaction. \nWe can’t wait to see you there! \nContact Us \nFor more information on SGS’s services\, contact: \nJoshua Bakin\nSenior Account Manager\n+1 983 218 4389\nJoshua.Bakin@sgs.com\nFollow me on LinkedIN \nor our award-winning Client Service Representatives: \n\nCall toll-free at +1 800 329 0204\nEmail at ehs.clientcare@sgs.com\n\nSGS is the world’s leading Testing\, Inspection and Certification company. We operate a network of over 2\,700 laboratories and business facilities across 119 countries\, supported by a team of 99\,250 dedicated professionals. With over 145 years of service excellence\, we combine the precision and accuracy that define Swiss companies to help organizations achieve the highest standards of quality\, safety and compliance. \nOur brand promise\, when you need to be sure\, underscores our commitment to reliability\, integrity and trust — enabling businesses to thrive with confidence. We proudly deliver our expert services through the SGS name and trusted specialized brands\, including Brightsight\, Bluesign\, Maine Pointe and Nutrasource. \nSGS is publicly traded on the SIX Swiss Exchange under the ticker symbol SGSN (ISIN CH0002497458\, Reuters SGSN.S\, Bloomberg SGSN:SW). \n 
URL:https://env.sgs.com/event/2025-awra-cgwa-symposium/
LOCATION:Mount Vernon Canyon Club\, 24933 Club House Cir\, Golden\, CO\, 80401\, United States
CATEGORIES:Environmental Testing
ATTACH;FMTTYPE=image/png:https://env.sgs.com/wp-content/uploads/2026/04/SocialMedia_2026-AWRA-CGWA-Symposium_26.png
END:VEVENT
BEGIN:VEVENT
DTSTART;VALUE=DATE:20260519
DTEND;VALUE=DATE:20260521
DTSTAMP:20260421T051743
CREATED:20260414T204728Z
LAST-MODIFIED:20260415T192358Z
UID:70697-1779148800-1779321599@env.sgs.com
SUMMARY:2026 Environmental Trade Fair & Conference (TCEQ)
DESCRIPTION:Join our Experts at the Environmental Trade Fair and Conference (ETFC-TCEQ)\, May 19 – 20\, in San Antonio\, TX \nConnect with our team to explore how our innovative services can help you navigate industry demands. From cutting-edge testing solutions to comprehensive monitoring analysis and PFAS capabilities\, we’re here to address your environmental challenges across air\, water\, compliance and more!  \nDon’t Miss These Presentations: \nKesavalu Bagawandoss\, General Manager II\, will present:  \nPFAS in Air OTM Methods   \n\nTuesday\, May 19th at 1:00 – 2:00 pm \nLAB PRACTICES AND DATA REPORTING – Room 212 AB \n\nDense Non-Aqueous Phase Liquid Forensics  \n\nWednesday\, May 20th at 10:30 – 11 :00 am\n LAB PRACTICES AND DATA REPORTING – Room 212 AB \n\n\n\n                \n                        \n                            Presentation Requests\n                            Please fill out the form below to request a copy of these presentations. \n                        \n                        Name(Required)\n                            \n                            \n                                                    \n                                                    First\n                                                \n                            \n                            \n                                                    \n                                                    Last\n                                                \n                            \n                        Email(Required)\n                            \n                        PhoneCompany(Required)Presentation Requested(Required)\n          \n            \n            \n            \n            \n            \n            \n            \n            \n            \n            \n            \n            \n            \n        \n                        \n                        \n\nWe will be exhibiting our high quality and cost-effective services\, including:    \n\nPFAS Analysis – As the originators of method 1633\, we offer a wide range of matrices to analyze PFAS in water\, soil\, sediments\, biosolids and tissues/biofluids. \nRadiocarbon testing – SGS Beta is an ISO 17025-accredited radiocarbon dating and stable isotopes laboratory with standard turnaround time of 14 business days or less. With over 45 years of experience\, the lab is respected worldwide for accuracy\, quality\, and customer care.  \nPetroleum Hydrocarbon Forensics – With decades of expertise\, SGS provides advanced analytical techniques\, including Tier 1-3 fingerprinting and optional expert interpretation\, to resolve complex contamination issues. \nFenceline Monitoring w/ AIHR Shark – The AIHR Shark is a hands-free passive directional sampler that monitors emission levels caused by refinery activity or off-site sources and helps keep you in compliance with EPA-325.  \nOTM 50 – OTM-50 is a method for the measurement of 29 volatile fluorinated compounds in stationary sources and other settings. This target list originates from known industrial products and products of incomplete thermal destruction. SGS offers OTM-50 analysis.\nSmartSense Continuous Monitoring – Monitors VOCs\, CO\, temperature\, pressure\, humidity\, and other contaminants from anywhere in the world with innovative cloud remote sensor monitoring.\n\nWe continue to grow with the acquisitions of Beta Analytic\, a global leader in Carbon-14 age dating\, biobased/biogenic product validation\, stable isotopes\, geotechnical & geoscience applications and hydrology\, and AMA Analytical Services (AMA)\, specialized in asbestos\, lead/metals\, and microbial analysis laboratory services.    \nOur Environment\, Health and Safety Analysis and Monitoring Solutions in North America\, are focused on helping businesses succeed and keep people safe and healthy. We offer laboratory analyses including air\, water\, soil\, and hazardous waste; IH; asbestos\, lead\, mold; and ultra-trace analysis for contaminants of concern. Innovation is used in many applications including real-time air quality monitoring and wildfire analysis. Our PFAS testing capabilities lead the industry. Decades of experience\, the capacity for quick TAT\, and superior client service\, assures defensible results and your utmost satisfaction.   \nThere’s one more reason to stop by our booth:\nVisit the SGS booth #603 to see SmartSense in action and enter for a chance to win a JBL Flip Speaker! \nWe can’t wait to see you there! \nContact Us\nFor more information on SGS’s services\, contact: \n\n\n\nBright Boakye\nSenior Account Manager\n+1 908 307 4174\nBright.Boakye@sgs.com\nFollow me on LinkedIN \n\n\n\n\nIsaac Schmidt\nGulf Coast Sales Manager\n+1 337 237 4775\nIsaac.schmidt@sgs.com\nFollow me on LinkedIN \n\n\n\n\nKevin Gibbons\nSales Key Account Manager \n+1 732 406 1471\nKevin.Gibbons@sgs.com\nFollow me on LinkedIN \n\n\n\n\n\n\nKesavalu M. Bagawandoss Ph.D.\, J.D.\nGeneral Manager\n+1 337 237 4776\nDr.Doss@sgs.com\nFollow me on LinkedIN\n\n\n\n\nClint Palermo \nSr. Business Development Manager\n+1 888 432 5227\nClint.Palermo@sgs.com\nFollow me on LinkedIN \n\n\n\n\nJamie Fox\nDirector Technical Sales\n+1 505 307-3770\nJamie.Fox@sgs.com\nFollow me on LinkedIN \n\n\n\nor contact our award-winning Client Service Representatives: \n\nCall toll-free at +1 800 329 0204\nEmail at ehs.clientcare@sgs.com\n\nSGS is the world’s leading Testing\, Inspection and Certification company. We operate a network of over 2\,700 laboratories and business facilities across 119 countries\, supported by a team of 99\,250 dedicated professionals. With over 145 years of service excellence\, we combine the precision and accuracy that define Swiss companies to help organizations achieve the highest standards of quality\, safety and compliance. \nOur brand promise\, when you need to be sure\, underscores our commitment to reliability\, integrity and trust — enabling businesses to thrive with confidence. We proudly deliver our expert services through the SGS name and trusted specialized brands\, including Brightsight\, Bluesign\, Maine Pointe and Nutrasource. \nSGS is publicly traded on the SIX Swiss Exchange under the ticker symbol SGSN (ISIN CH0002497458\, Reuters SGSN.S\, Bloomberg SGSN:SW).
URL:https://env.sgs.com/event/2026-environmental-trade-fair-conference-tceq/
LOCATION:Henry B. Gonzalez Convention Center\, 200 East Market St.\, San Antonio\, TX\, 78205\, United States
CATEGORIES:Environmental Testing
ATTACH;FMTTYPE=image/jpeg:https://env.sgs.com/wp-content/uploads/2026/04/SocialMedia_TCEQ-ETFC-2026_26.jpg
END:VEVENT
END:VCALENDAR