BEGIN:VCALENDAR
VERSION:2.0
PRODID:-//SGS North America - ECPv6.15.20//NONSGML v1.0//EN
CALSCALE:GREGORIAN
METHOD:PUBLISH
X-ORIGINAL-URL:https://env.sgs.com
X-WR-CALDESC:Events for SGS North America
REFRESH-INTERVAL;VALUE=DURATION:PT1H
X-Robots-Tag:noindex
X-PUBLISHED-TTL:PT1H
BEGIN:VTIMEZONE
TZID:America/New_York
BEGIN:DAYLIGHT
TZOFFSETFROM:-0500
TZOFFSETTO:-0400
TZNAME:EDT
DTSTART:20250309T070000
END:DAYLIGHT
BEGIN:STANDARD
TZOFFSETFROM:-0400
TZOFFSETTO:-0500
TZNAME:EST
DTSTART:20251102T060000
END:STANDARD
BEGIN:DAYLIGHT
TZOFFSETFROM:-0500
TZOFFSETTO:-0400
TZNAME:EDT
DTSTART:20260308T070000
END:DAYLIGHT
BEGIN:STANDARD
TZOFFSETFROM:-0400
TZOFFSETTO:-0500
TZNAME:EST
DTSTART:20261101T060000
END:STANDARD
BEGIN:DAYLIGHT
TZOFFSETFROM:-0500
TZOFFSETTO:-0400
TZNAME:EDT
DTSTART:20270314T070000
END:DAYLIGHT
BEGIN:STANDARD
TZOFFSETFROM:-0400
TZOFFSETTO:-0500
TZNAME:EST
DTSTART:20271107T060000
END:STANDARD
END:VTIMEZONE
BEGIN:VEVENT
DTSTART;VALUE=DATE:20260506
DTEND;VALUE=DATE:20260507
DTSTAMP:20260425T070459
CREATED:20260422T142955Z
LAST-MODIFIED:20260422T142955Z
UID:70855-1778025600-1778111999@env.sgs.com
SUMMARY:SAME San Antonio Post 2026 Small Business Market Research Fair (SBMRF)
DESCRIPTION:Catch us at SAME San Antonio Post 2026 Small Business Market Research Fair (SBMRF) \nConnect with Tracy Dutton on May 6th in San Antonio\, TX\, to discuss our expertise and testing solutions to support your environmental projects! \nExplore our expanded locations in the Western U.S.\, discover how our local solutions can elevate your goals\, and ask about our PFAS testing capabilities and federally accredited labs.   \nWe will be exhibiting our high quality\, innovative and cost-effective services including:  \n\nFederally Accredited – A network of laboratories providing accredited\, reliable and high-quality\, environmental testing services including analysis of water\, soil\, air\, wastes\, energetics and explosives\, and emerging contaminants.  \n\n\nPFAS Analysis – As the originators of method 1633\, we offer a wide range of matrices to analyze PFAS in water\, soil\, sediments\, biosolids and tissues/biofluids.  \n\n\nRadiocarbon dating and isotopic analysis – SGS Beta provides high-quality radiocarbon dating and isotopic analysis for various sample types including groundwater and soil. Key analyses include Carbon‑14 dating and stable isotope measurements (δ¹³C\, δ¹⁸O\, δD\, δ¹⁷O\, δ¹⁵N)\, among others.  \n\n\nEnvironmental Analytical Capabilities – We support consultants\, governments and industry by offering analytical services at state-of-the-art laboratories in North America and across the globe for soil\, water\, air\, and bulk materials in the workplace and built environment. \n\n\nNetwork of Western US Locations – Full-service laboratories for air\, water\, soil and hazardous waste including service centers\, IH rental centers and couriers in Alaska\, Arizona\, California\, Nevada\, and Colorado. \n\nOur Environment\, Health and Safety Analysis and Monitoring Solutions in North America\, are focused on helping businesses succeed and keep people safe and healthy. We offer laboratory analyses include air\, water\, soil\, and hazardous waste; IH; asbestos\, lead\, mold; and ultra-trace analysis for contaminants of concern. Innovation is used in many applications including real-time air quality monitoring and wildfire analysis. Our PFAS testing capabilities lead the industry. Decades of experience\, the capacity for quick TAT\, and superior client service\, assures defensible results and your utmost satisfaction.  \nThere’s one more reason to stop by our booth:\nSwing by our booth and register for a chance to win a JBL speaker!   \nWe can’t wait to see you there! \nContact Us\nFor more information on SGS’s services\, contact: \nTracy Dutton\nSenior Account Manager\n+1 253 719 9347\nTracy.Dutton@sgs.com\nFollow me on LinkedIN\nLinq my business card \nor our award-winning Client Service Representatives: \n\nCall toll-free at +1 800 329 0204\nEmail at ehs.clientcare@sgs.com\n\nSGS is the world’s leading Testing\, Inspection and Certification company. We operate a network of over 2\,700 laboratories and business facilities across 119 countries\, supported by a team of 99\,250 dedicated professionals. With over 145 years of service excellence\, we combine the precision and accuracy that define Swiss companies to help organizations achieve the highest standards of quality\, safety and compliance. \nOur brand promise\, when you need to be sure\, underscores our commitment to reliability\, integrity and trust — enabling businesses to thrive with confidence. We proudly deliver our expert services through the SGS name and trusted specialized brands\, including Brightsight\, Bluesign\, Maine Pointe and Nutrasource. \nSGS is publicly traded on the SIX Swiss Exchange under the ticker symbol SGSN (ISIN CH0002497458\, Reuters SGSN.S\, Bloomberg SGSN:SW).
URL:https://env.sgs.com/event/same-san-antonio-post-2026-small-business-market-research-fair-sbmrf/
LOCATION:San Antonio\, San Antonio\, TX\, United States
CATEGORIES:Federal
ATTACH;FMTTYPE=image/png:https://env.sgs.com/wp-content/uploads/2026/04/SocialMedia_2026-Small-Business-Market-Research-Fair_26.png
END:VEVENT
END:VCALENDAR