BEGIN:VCALENDAR
VERSION:2.0
PRODID:-//SGS North America - ECPv6.15.20//NONSGML v1.0//EN
CALSCALE:GREGORIAN
METHOD:PUBLISH
X-WR-CALNAME:SGS North America
X-ORIGINAL-URL:https://env.sgs.com
X-WR-CALDESC:Events for SGS North America
REFRESH-INTERVAL;VALUE=DURATION:PT1H
X-Robots-Tag:noindex
X-PUBLISHED-TTL:PT1H
BEGIN:VTIMEZONE
TZID:America/New_York
BEGIN:DAYLIGHT
TZOFFSETFROM:-0500
TZOFFSETTO:-0400
TZNAME:EDT
DTSTART:20240310T070000
END:DAYLIGHT
BEGIN:STANDARD
TZOFFSETFROM:-0400
TZOFFSETTO:-0500
TZNAME:EST
DTSTART:20241103T060000
END:STANDARD
BEGIN:DAYLIGHT
TZOFFSETFROM:-0500
TZOFFSETTO:-0400
TZNAME:EDT
DTSTART:20250309T070000
END:DAYLIGHT
BEGIN:STANDARD
TZOFFSETFROM:-0400
TZOFFSETTO:-0500
TZNAME:EST
DTSTART:20251102T060000
END:STANDARD
BEGIN:DAYLIGHT
TZOFFSETFROM:-0500
TZOFFSETTO:-0400
TZNAME:EDT
DTSTART:20260308T070000
END:DAYLIGHT
BEGIN:STANDARD
TZOFFSETFROM:-0400
TZOFFSETTO:-0500
TZNAME:EST
DTSTART:20261101T060000
END:STANDARD
END:VTIMEZONE
BEGIN:VEVENT
DTSTART;VALUE=DATE:20251009
DTEND;VALUE=DATE:20251010
DTSTAMP:20260422T224136
CREATED:20251008T150833Z
LAST-MODIFIED:20251008T150929Z
UID:67671-1759968000-1760054399@env.sgs.com
SUMMARY:Southern California Joint Technical Symposium (JTS)
DESCRIPTION:Explore our Extensive Network of Services in the Northwest Region at the Southern California Joint Technical Symposium!\nDiscover our comprehensive solutions for the Built Environment industry\, including mold\, asbestos\, lead and legionella testing and our innovative indoor air quality monitoring!  \nWe will be exhibiting our innovative and cost-effective services including:  \n be exhibiting our innovative and cost-effective services including:  \n\nServices for the Built Environment – Top-quality laboratory services to help clients identify\, understand\, and monitor potential contaminants in the built environment including asbestos\, heavy metals\, particulates\, microbiology and bacteriology. \n\n\nLead & Heavy Metals – Using state-of-the-art instrumentation to analyze bulk materials and paint in the built environment\, as well as analysis for personal exposure and environmental pollutants in air\, soil\, and water via our network. \n\n\nMicrobiology & Bacteriology – Offering comprehensive microbiology analytical services including mold and fungi with qPCR\, bacteria with MPN/MUG\, legionella\, and sterile pharma validations with USP 797. \n\n\nIndoor Air Quality – The full suite of services needed for quality IAQ analysis and monitoring for a healthy building including LEED and WELL testing kits. \n\n\nNetwork of West Coast Locations – Full-service laboratories for air\, water\, soil and hazardous waste including service centers\, IH rental centers and couriers in San Francisco\, Los Angeles\, Sacramento and Milpitas\, CA\, plus Las Vegas\, Reno and Elko\, NV. \n\n  \nOur Environment\, Health and Safety Analysis and Monitoring Solutions in North America\, are focused on helping businesses succeed and keep people safe and healthy. We offer laboratory analyses include air\, water\, soil\, and hazardous waste; IH; asbestos\, lead\, mold; and ultra-trace analysis for contaminants of concern. Innovation is used in many applications including real-time air quality monitoring and wildfire analysis. Our PFAS testing capabilities lead the industry. Decades of experience\, the capacity for quick TAT\, and superior client service\, assures defensible results and your utmost satisfaction.  \n  \nThere’s one more reason to stop by our booth!\nVisit the SGS booth to win a special prize and ask our experts for a chance to visit our lab in Carson!  \n  \nWe can’t wait to see you there! \nCONTACT US\nFor more information on SGS’s services\, contact: \n  \nHamreen Kaur\nSenior Account Manager\, SoCal\n+1 562 900 1392\nHamreen.Kaur@sgs.com\nFollow me: LinkedIn \n  \nor our award-winning Client Service Representatives: \n\nCall toll-free at +1 800 329 0204\nEmail at ehs.clientcare@sgs.com\n\n  \nSGS is the world’s leading Testing\, Inspection and Certification company. We operate a network of over 2\,700 laboratories and business facilities across 119 countries\, supported by a team of 99\,250 dedicated professionals. With over 145 years of service excellence\, we combine the precision and accuracy that define Swiss companies to help organizations achieve the highest standards of quality\, safety and compliance. \nOur brand promise\, when you need to be sure\, underscores our commitment to reliability\, integrity and trust — enabling businesses to thrive with confidence. We proudly deliver our expert services through the SGS name and trusted specialized brands\, including Brightsight\, Bluesign\, Maine Pointe and Nutrasource. \nSGS is publicly traded on the SIX Swiss Exchange under the ticker symbol SGSN (ISIN CH0002497458\, Reuters SGSN.S\, Bloomberg SGSN:SW).
URL:https://env.sgs.com/event/southern-california-joint-technical-symposium-jts/
LOCATION:Carson Event Centre\, Carson\, CA\, United States
CATEGORIES:Industrial Hygiene
ATTACH;FMTTYPE=image/jpeg:https://env.sgs.com/wp-content/uploads/2025/10/SocialMedia_Southern-California-Joint-Technical-Symposium-JTS_2025.jpg
END:VEVENT
BEGIN:VEVENT
DTSTART;TZID=America/New_York:20251009T080000
DTEND;TZID=America/New_York:20251010T170000
DTSTAMP:20260422T224136
CREATED:20251003T135735Z
LAST-MODIFIED:20251004T072520Z
UID:67621-1759996800-1760115600@env.sgs.com
SUMMARY:2025 Utah Conference on Safety and Industrial Hygiene
DESCRIPTION:We are Excited to Exhibit at the 42nd Annual Utah Conference on Safety and Industrial Hygiene\, Oct 9 – 10\, at the University of Utah! \nThis annual event gathers more than 300 industry professionals for informative sessions and exciting networking opportunities.   \nDon’t miss this chance to learn about our innovative solutions to manage workplace exposure and unique technologies for real-time indoor air quality monitoring\, equipment rental services and more!  \nBe sure not to miss this exciting presentation!  \nRon McMahan\, director of innovations\, will be presenting:   \n“Personal Monitoring and SGS SmartSense – IoT in EHS Application and the Future of EHS Monitoring and Testing”.  \nCan’t make it? Click here to request a copy of this presentation.   \nVisit our booth to connect with Stephanie Stimson\, Ph.D. where she’ll be exhibiting our high-quality\, innovative and cost-effective services including:  \n\nIndustrial Hygiene Analysis & Monitoring – Protecting people from hazardous exposures by selecting the most effective ways to obtain data and delivering high-quality analysis and defensible results. \nServices for the Built Environment – Top-quality laboratory services to help clients identify\, understand\, and monitor potential contaminants in the built environment including asbestos\, heavy metals\, particulates\, microbiology and bacteriology. \nSmartSense Continuous Monitoring – Monitors VOCs\, CO\, temperature\, pressure\, humidity\, and other contaminants from anywhere in the world with innovative cloud remote sensor monitoring. \nEquipment Rental – Full spectrum of equipment you can rent preset and with free return shipping \nIndoor Air Quality – The full suite of services needed for quality IAQ analysis and monitoring for a healthy building including LEED and WELL testing kits. \n\n  \nOur Environment\, Health and Safety Analysis and Monitoring Solutions in North America\, are focused on helping businesses succeed and keep people safe and healthy. We offer laboratory analyses include air\, water\, soil\, and hazardous waste; IH; asbestos\, lead\, mold; and ultra-trace analysis for contaminants of concern. Innovation is used in many applications including real-time air quality monitoring and wildfire analysis. Our PFAS testing capabilities lead the industry. Decades of experience\, the capacity for quick TAT\, and superior client service\, assures defensible results and your utmost satisfaction.  \nFill out this form \n\n  \nWe can’t wait to see you there! \nCONTACT US\nFor more information on SGS’s services\, contact: \nStephanie Stimson\, Ph.D.\nSenior Account Manager\, AZ\, ID\, NV\, OR\, UT & WA\n+1 480 910 7924\nStephanie.Stimson@sgs.com\nFollow me on LinkedIN \nRon McMahan\nDirector of Innovations\n+1 512 897 5230\nRonald.McMahan@sgs.com \nor our award-winning Client Service Representatives: \n\nCall toll-free at +1 800 329 0204\nEmail at ehs.clientcare@sgs.com\n\nSGS is the world’s leading Testing\, Inspection and Certification company. We operate a network of over 2\,700 laboratories and business facilities across 119 countries\, supported by a team of 99\,250 dedicated professionals. With over 145 years of service excellence\, we combine the precision and accuracy that define Swiss companies to help organizations achieve the highest standards of quality\, safety and compliance. \nOur brand promise\, when you need to be sure\, underscores our commitment to reliability\, integrity and trust — enabling businesses to thrive with confidence. We proudly deliver our expert services through the SGS name and trusted specialized brands\, including Brightsight\, Bluesign\, Maine Pointe and Nutrasource. \nSGS is publicly traded on the SIX Swiss Exchange under the ticker symbol SGSN (ISIN CH0002497458\, Reuters SGSN.S\, Bloomberg SGSN:SW). \n  \n   \n 
URL:https://env.sgs.com/event/2025-utah-conference-on-safety-and-industrial-hygiene/
LOCATION:Salt Lake City\, UT\, USA
CATEGORIES:Industrial Hygiene
ATTACH;FMTTYPE=image/png:https://env.sgs.com/wp-content/uploads/2025/10/SocialMedia_2025-Utah-Conference-on-Safety-and-Industrial-Hygiene_2025.jpg.png
END:VEVENT
END:VCALENDAR