BEGIN:VCALENDAR
VERSION:2.0
PRODID:-//SGS North America - ECPv6.15.20//NONSGML v1.0//EN
CALSCALE:GREGORIAN
METHOD:PUBLISH
X-ORIGINAL-URL:https://env.sgs.com
X-WR-CALDESC:Events for SGS North America
REFRESH-INTERVAL;VALUE=DURATION:PT1H
X-Robots-Tag:noindex
X-PUBLISHED-TTL:PT1H
BEGIN:VTIMEZONE
TZID:America/New_York
BEGIN:DAYLIGHT
TZOFFSETFROM:-0500
TZOFFSETTO:-0400
TZNAME:EDT
DTSTART:20240310T070000
END:DAYLIGHT
BEGIN:STANDARD
TZOFFSETFROM:-0400
TZOFFSETTO:-0500
TZNAME:EST
DTSTART:20241103T060000
END:STANDARD
BEGIN:DAYLIGHT
TZOFFSETFROM:-0500
TZOFFSETTO:-0400
TZNAME:EDT
DTSTART:20250309T070000
END:DAYLIGHT
BEGIN:STANDARD
TZOFFSETFROM:-0400
TZOFFSETTO:-0500
TZNAME:EST
DTSTART:20251102T060000
END:STANDARD
BEGIN:DAYLIGHT
TZOFFSETFROM:-0500
TZOFFSETTO:-0400
TZNAME:EDT
DTSTART:20260308T070000
END:DAYLIGHT
BEGIN:STANDARD
TZOFFSETFROM:-0400
TZOFFSETTO:-0500
TZNAME:EST
DTSTART:20261101T060000
END:STANDARD
END:VTIMEZONE
BEGIN:VEVENT
DTSTART;VALUE=DATE:20251205
DTEND;VALUE=DATE:20251206
DTSTAMP:20260424T080738
CREATED:20251114T213930Z
LAST-MODIFIED:20251121T155544Z
UID:68666-1764892800-1764979199@env.sgs.com
SUMMARY:Northeast Industrial Hygiene Conference 2025
DESCRIPTION:Discover our Innovative Testing Services and Smart Technologies at the Northeast Regional Industrial Hygiene Conference  \nJoin Kimberley Thomas and Aaron Patak on December 5th in Edison\, NJ\, to explore our innovative digital solutions for managing workplace exposure!  \nExplore our growing network of labs and testing services on the East Coast\, and learn how we’re expanding our footprint in the built environment with cutting-edge testing technologies and monitoring solutions to tackle industry challenges!  \nWe will be exhibiting our high-quality\, innovative and cost-effective services including:  \n\nEquipment Rental – Full spectrum of equipment you can rent preset and with free return shipping \n\n\nIndoor Air Quality – The full suite of services needed for quality IAQ analysis and monitoring for a healthy building including LEED and WELL testing kits. \n\n\nServices for the Built Environment – Top-quality laboratory services to help clients identify\, understand\, and monitor potential contaminants in the built environment including asbestos\, heavy metals\, particulates\, microbiology and bacteriology. \n\n\nAsbestos Microscopy & TEM – A comprehensive array analytical methods for testing in air\, water\, building materials\, soil/rock\, settled dust or attic vermiculite\, including Rotameter Calibration (PCM) for asbestos air sampling applications. \n\n\nSmartSense Continuous Monitoring – Monitors VOCs\, CO\, temperature\, pressure\, humidity\, and other contaminants from anywhere in the world with innovative cloud remote sensor monitoring. \n\n\nNetwork Locations – Full-service laboratories for air\, water\, soil and hazardous waste including service centers\, IH rental centers and couriers near you. \n\nThere’s one more reason to stop by our booth \nVisit the SGS booth to explore our IH Client Portal Demo and see how you can order a wide variety of Industrial Hygiene\, Health & Safety equipment online. Plus\, enter for a chance to win a Yeti Rambler!  \nWe can’t wait to see you there! \nContact Us\nFor more information on SGS’s services\, contact: \nKimberley Thomas \nSenior Account Manager\n+1 609 314 6062\nKimberley.Thomas@sgs.com\nFollow me on LinkedIN \nAaron Patak\nSenior Account Manager\n+1 201 508 3000\naaron.patak@sgs.com\nFollow me on LinkedIN \nor our award-winning Client Service Representatives: \n\nCall toll-free at +1 800 329 0204\nEmail at ehs.clientcare@sgs.com\n\nSGS is the world’s leading Testing\, Inspection and Certification company. We operate a network of over 2\,700 laboratories and business facilities across 119 countries\, supported by a team of 99\,250 dedicated professionals. With over 145 years of service excellence\, we combine the precision and accuracy that define Swiss companies to help organizations achieve the highest standards of quality\, safety and compliance. \nOur brand promise\, when you need to be sure\, underscores our commitment to reliability\, integrity and trust — enabling businesses to thrive with confidence. We proudly deliver our expert services through the SGS name and trusted specialized brands\, including Brightsight\, Bluesign\, Maine Pointe and Nutrasource. \nSGS is publicly traded on the SIX Swiss Exchange under the ticker symbol SGSN (ISIN CH0002497458\, Reuters SGSN.S\, Bloomberg SGSN:SW). \n 
URL:https://env.sgs.com/event/northeast-industrial-hygiene-conference-2025/
LOCATION:The Pines Manor 2085 Lincoln Hwy\, 2085 Lincoln Hwy\, Edison\, NJ\, 08817\, United States
CATEGORIES:Industrial Hygiene
ATTACH;FMTTYPE=image/png:https://env.sgs.com/wp-content/uploads/2025/11/SocialMedia_Northeast-Industrial-Hygiene-Conference_25-2.png
END:VEVENT
END:VCALENDAR