BEGIN:VCALENDAR
VERSION:2.0
PRODID:-//SGS North America - ECPv6.15.20//NONSGML v1.0//EN
CALSCALE:GREGORIAN
METHOD:PUBLISH
X-WR-CALNAME:SGS North America
X-ORIGINAL-URL:https://env.sgs.com
X-WR-CALDESC:Events for SGS North America
REFRESH-INTERVAL;VALUE=DURATION:PT1H
X-Robots-Tag:noindex
X-PUBLISHED-TTL:PT1H
BEGIN:VTIMEZONE
TZID:America/New_York
BEGIN:DAYLIGHT
TZOFFSETFROM:-0500
TZOFFSETTO:-0400
TZNAME:EDT
DTSTART:20240310T070000
END:DAYLIGHT
BEGIN:STANDARD
TZOFFSETFROM:-0400
TZOFFSETTO:-0500
TZNAME:EST
DTSTART:20241103T060000
END:STANDARD
BEGIN:DAYLIGHT
TZOFFSETFROM:-0500
TZOFFSETTO:-0400
TZNAME:EDT
DTSTART:20250309T070000
END:DAYLIGHT
BEGIN:STANDARD
TZOFFSETFROM:-0400
TZOFFSETTO:-0500
TZNAME:EST
DTSTART:20251102T060000
END:STANDARD
BEGIN:DAYLIGHT
TZOFFSETFROM:-0500
TZOFFSETTO:-0400
TZNAME:EDT
DTSTART:20260308T070000
END:DAYLIGHT
BEGIN:STANDARD
TZOFFSETFROM:-0400
TZOFFSETTO:-0500
TZNAME:EST
DTSTART:20261101T060000
END:STANDARD
END:VTIMEZONE
BEGIN:VEVENT
DTSTART;TZID=America/New_York:20251207T080000
DTEND;TZID=America/New_York:20251208T170000
DTSTAMP:20260422T174047
CREATED:20251124T210704Z
LAST-MODIFIED:20251125T200935Z
UID:68768-1765094400-1765213200@env.sgs.com
SUMMARY:2025 SME Arizona Conference
DESCRIPTION:Catch us at the 2025 SME Arizona Conference! \nWe are proud to attend the 2025 SME Arizona Conference\, Dec 7 – 8\, in Tucson\, AZ!  \nExplore how we are driving innovation in the Southwest region with the latest technology and monitoring solutions for the mining industry!   \nSet up a meeting with Stephanie Stimson to explore how we can assist you with all things mining and learn more about our innovative and cost-effective services\, including:    \n\nIndustrial Hygiene Analysis & Monitoring – Protecting people from hazardous exposures by selecting the most effective ways to obtain data and delivering high-quality analysis and defensible results. \n\n\nMSHA 30 CFR Self-Compliance Kit – A low-cost self-compliance kit that provides dust and silica monitoring as well as noise monitoring to cover all self-compliance reporting requirements. \n\n\nSilica – Provides exactly what you need to easily monitor your silica dust hazards\, and you can order our test kits that cover all forms of crystalline silica \n\n\nServices for the Built Environment – Top-quality laboratory services to help clients identify\, understand\, and monitor potential contaminants in the built environment including asbestos\, heavy metals\, particulates\, microbiology and bacteriology. \n\n\nEnvironmental Analytical Capabilities: We support consultants\, governments\, and industries with extensive Environment\, Health\, and Safety Analysis and Monitoring Solutions for air\, water\, soil\, hazardous waste; IH; asbestos\, lead\, mold\, and ultra-trace analysis. Our real-time air monitoring services\, wildfire analysis\, and PFAS testing provide tangible results\, and rapid TAT to your utmost satisfaction.  \n\n  \nWe can’t wait to see you there!  \nContact Us  \n Stephanie Stimson\, Ph.D.\nSenior Account Manager\, AZ\, ID\, NV\, OR\, UT\, NM & WA\n+1 480 910 7924\nStephanie.Stimson@sgs.com\nFollow me on LinkedIN \nor our award-winning Client Service Representatives: \n\nCall toll-free at +1 800 329 0204\nEmail at ehs.clientcare@sgs.com\n\nSGS is the world’s leading Testing\, Inspection and Certification company. We operate a network of over 2\,700 laboratories and business facilities across 119 countries\, supported by a team of 99\,250 dedicated professionals. With over 145 years of service excellence\, we combine the precision and accuracy that define Swiss companies to help organizations achieve the highest standards of quality\, safety and compliance. \nOur brand promise\, when you need to be sure\, underscores our commitment to reliability\, integrity and trust — enabling businesses to thrive with confidence. We proudly deliver our expert services through the SGS name and trusted specialized brands\, including Brightsight\, Bluesign\, Maine Pointe and Nutrasource. \nSGS is publicly traded on the SIX Swiss Exchange under the ticker symbol SGSN (ISIN CH0002497458\, Reuters SGSN.S\, Bloomberg SGSN:SW).
URL:https://env.sgs.com/event/2025-sme-arizona-conference/
LOCATION:NC
CATEGORIES:Industrial Hygiene
ATTACH;FMTTYPE=image/jpeg:https://env.sgs.com/wp-content/uploads/2025/11/SocialMedia_SME-Arizona-Conference_2025.jpg
END:VEVENT
END:VCALENDAR