BEGIN:VCALENDAR
VERSION:2.0
PRODID:-//SGS North America - ECPv6.15.20//NONSGML v1.0//EN
CALSCALE:GREGORIAN
METHOD:PUBLISH
X-ORIGINAL-URL:https://env.sgs.com
X-WR-CALDESC:Events for SGS North America
REFRESH-INTERVAL;VALUE=DURATION:PT1H
X-Robots-Tag:noindex
X-PUBLISHED-TTL:PT1H
BEGIN:VTIMEZONE
TZID:America/New_York
BEGIN:DAYLIGHT
TZOFFSETFROM:-0500
TZOFFSETTO:-0400
TZNAME:EDT
DTSTART:20240310T070000
END:DAYLIGHT
BEGIN:STANDARD
TZOFFSETFROM:-0400
TZOFFSETTO:-0500
TZNAME:EST
DTSTART:20241103T060000
END:STANDARD
BEGIN:DAYLIGHT
TZOFFSETFROM:-0500
TZOFFSETTO:-0400
TZNAME:EDT
DTSTART:20250309T070000
END:DAYLIGHT
BEGIN:STANDARD
TZOFFSETFROM:-0400
TZOFFSETTO:-0500
TZNAME:EST
DTSTART:20251102T060000
END:STANDARD
BEGIN:DAYLIGHT
TZOFFSETFROM:-0500
TZOFFSETTO:-0400
TZNAME:EDT
DTSTART:20260308T070000
END:DAYLIGHT
BEGIN:STANDARD
TZOFFSETFROM:-0400
TZOFFSETTO:-0500
TZNAME:EST
DTSTART:20261101T060000
END:STANDARD
END:VTIMEZONE
BEGIN:VEVENT
DTSTART;VALUE=DATE:20251211
DTEND;VALUE=DATE:20251213
DTSTAMP:20260422T200820
CREATED:20251205T155059Z
LAST-MODIFIED:20251208T164146Z
UID:68894-1765411200-1765583999@env.sgs.com
SUMMARY:Pennsylvania Governor's Occupational Safety & Health Conference (PA GOSH) 2025
DESCRIPTION:Join us to discover world-class analytical and monitoring solutions to ensure workplace safety\, network with other safety professionals\, and explore our latest trends and innovations in the industry.   \nWe will be exhibiting our SmartSense real-time monitoring solution with LiveView reports and our high quality\, innovative and cost-effective services including:  \n\nIndustrial Hygiene Analysis & Monitoring – Protecting people from hazardous exposures by selecting the most effective ways to obtain data and delivering high-quality analysis and defensible results. \nServices for the Built Environment – Top-quality laboratory services to help clients identify\, understand\, and monitor potential contaminants in the built environment including asbestos\, heavy metals\, particulates\, microbiology and bacteriology.\nSilica – Provides exactly what you need to easily monitor your silica dust hazards and you can order our test kits that cover all forms of crystalline silica. \nIndoor Air Quality – The full suite of services needed for quality IAQ analysis and monitoring for a healthy building including LEED and WELL testing kits. \nFenceline Monitoring w/ AIHR Shark – The AIHR Shark is a hands-free passive directional sampler that monitors emissions levels caused by refinery activity or off-site sources and helps keep you in compliance with EPA-325. \n\nOur Environment\, Health and Safety Analysis and Monitoring Solutions in North America\, are focused on helping businesses succeed and keep people safe and healthy. We offer laboratory analyses include air\, water\, soil\, and hazardous waste; IH; asbestos\, lead\, mold; and ultra-trace analysis for contaminants of concern. Innovation is used in many applications including real-time air quality monitoring and wildfire analysis. Our PFAS testing capabilities lead the industry. Decades of experience\, the capacity for quick TAT\, and superior client service\, assures defensible results and your utmost satisfaction. \nThere’s one more reason to stop by our booth:\nVisit the SGS booth to explore our IH Sampling and Analysis Guide (SAG) and enter for a chance to win a Yeti Rambler!  \n\nWe can’t wait to see you there! \nContact Us\nFor more information on SGS’s services\, contact: \nKimberley Thomas\nSenior Account Manager\n+1 609 314 6062 \nKimberley.Thomas@sgs.com\nFollow me on LinkedIN \nCharles Chan\nSenior Account Manager\n+1 302 484 6503\nCharles.Chan2@sgs\nFollow me on LinkedIN \nor our award-winning Client Service Representatives: \n\nCall toll-free at +1 800 329 0204\nEmail at ehs.clientcare@sgs.com\n\n  \nSGS is the world’s leading Testing\, Inspection and Certification company. We operate a network of over 2\,700 laboratories and business facilities across 119 countries\, supported by a team of 99\,250 dedicated professionals. With over 145 years of service excellence\, we combine the precision and accuracy that define Swiss companies to help organizations achieve the highest standards of quality\, safety and compliance. \nOur brand promise\, when you need to be sure\, underscores our commitment to reliability\, integrity and trust — enabling businesses to thrive with confidence. We proudly deliver our expert services through the SGS name and trusted specialized brands\, including Brightsight\, Bluesign\, Maine Pointe and Nutrasource. \nSGS is publicly traded on the SIX Swiss Exchange under the ticker symbol SGSN (ISIN CH0002497458\, Reuters SGSN.S\, Bloomberg SGSN:SW).
URL:https://env.sgs.com/event/pennsylvania-governors-occupational-safety-health-conference-pa-gosh-2025/
LOCATION:Hershey Lodge\, University Drive\, Hershey\, PA\, United States
CATEGORIES:Built Environment,Industrial Hygiene
ATTACH;FMTTYPE=image/png:https://env.sgs.com/wp-content/uploads/2025/12/SocialMedia_PA-GOSH_25_UPDATED.png
END:VEVENT
END:VCALENDAR